BEGIN:VCALENDAR
VERSION:2.0
PRODID:-//Explore Morocco | Your Guide to Morocco - ECPv6.15.20//NONSGML v1.0//EN
CALSCALE:GREGORIAN
METHOD:PUBLISH
X-ORIGINAL-URL:https://yourguidetomorocco.com
X-WR-CALDESC:Events for Explore Morocco | Your Guide to Morocco
REFRESH-INTERVAL;VALUE=DURATION:PT1H
X-Robots-Tag:noindex
X-PUBLISHED-TTL:PT1H
BEGIN:VTIMEZONE
TZID:Africa/Casablanca
BEGIN:DAYLIGHT
TZOFFSETFROM:+0100
TZOFFSETTO:+0000
TZNAME:+00
DTSTART:20250223T020000
END:DAYLIGHT
BEGIN:STANDARD
TZOFFSETFROM:+0000
TZOFFSETTO:+0100
TZNAME:+01
DTSTART:20250406T020000
END:STANDARD
BEGIN:DAYLIGHT
TZOFFSETFROM:+0100
TZOFFSETTO:+0000
TZNAME:+00
DTSTART:20260215T020000
END:DAYLIGHT
BEGIN:STANDARD
TZOFFSETFROM:+0000
TZOFFSETTO:+0100
TZNAME:+01
DTSTART:20260322T020000
END:STANDARD
BEGIN:DAYLIGHT
TZOFFSETFROM:+0100
TZOFFSETTO:+0000
TZNAME:+00
DTSTART:20270207T020000
END:DAYLIGHT
BEGIN:STANDARD
TZOFFSETFROM:+0000
TZOFFSETTO:+0100
TZNAME:+01
DTSTART:20270314T020000
END:STANDARD
END:VTIMEZONE
BEGIN:VEVENT
DTSTART;TZID=Africa/Casablanca:20260506T080000
DTEND;TZID=Africa/Casablanca:20260509T180000
DTSTAMP:20260423T000022
CREATED:20250706T185401Z
LAST-MODIFIED:20260414T153022Z
UID:1010-1778054400-1778349600@yourguidetomorocco.com
SUMMARY:Kelaat M'Gouna Rose Festival 2026 – Morocco's Valley of Roses
DESCRIPTION:What Is the Kelaat M’Gouna Rose Festival 2026?\n\n\n\n\nThe Kelaat M’Gouna Rose Festival 2026 — locally known as the Moussem des Roses — is one of the most spectacular cultural celebrations in all of Morocco. Every spring\, the small town of Kelaat M’Gouna in the Dades Valley transforms into a sea of fragrant pink roses\, joyful music\, and vibrant Berber traditions. This annual festival celebrates the harvest of the famous Damascus rose\, a flower so deeply tied to the region’s identity that Kelaat M’Gouna is officially known as the Rose Capital of Morocco. \n\n\n\n\nFor travellers visiting Morocco in May\, the Kelaat M’Gouna Rose Festival is an unmissable bucket-list experience — a rare window into authentic Moroccan rural culture that no tour of Morocco should skip. \n\n\n\n\n\n\n\n\n\nWhen & Where Does the Kelaat M’Gouna Rose Festival 2026 Take Place?\n\n\n\n\n📅 Dates: May 6–9\, 2026 📍 Location: Kelaat M’Gouna\, Dades Valley\, Tinghir Province — 330 km east of Marrakech ⏱ Duration: 4 days 🎟 Admission: Free public event \n\n\n\n\nKelaat M’Gouna sits at an altitude of 1\,450 metres in the heart of the Valley of Roses\, surrounded by the dramatic Atlas Mountains. The exact festival dates follow the natural rose blooming cycle and are officially confirmed by the Moroccan National Tourism Office (ONMT) each March or April. \n\n\n\n\n\n\n\n\n\nWhat to Expect at the Kelaat M’Gouna Rose Festival\n\n\n\n\n🌸 The Rose Queen Parade\nThe absolute highlight of the Kelaat M’Gouna Rose Festival. Local young women compete for the honour of being crowned Rose Queen — judged on their knowledge of rose cultivation\, Berber cultural heritage\, and poise. The winner leads a magnificent parade through the main streets of town\, draped in traditional Amazigh attire covered in fresh rose blossoms\, while petals are tossed into the air like fragrant pink snow. Arrive at least one hour before the parade to secure a good viewing spot. \n\n\n\n\n🥁 Traditional Amazigh Music & Ahwash Dancing\nThroughout the festival\, Berber musicians and dancers perform ahwash — a traditional circle dance accompanied by bendir drums\, hand clapping\, and call-and-response chanting. These are real community celebrations\, deeply rooted in Amazigh cultural heritage — not staged performances for tourists. \n\n\n\n\n🛍 Rose Product Markets & Souks\nThe open-air markets overflow with authentic rose products — pure rose water\, rose essential oil\, handmade soaps\, perfumes\, skin creams\, and dried flowers\, all made from locally harvested Damascus roses. These are among the most authentic souvenirs you can bring home from Morocco. \n\n\n\n\n🏭 Rose Distillery Visits\nVisit one of Kelaat M’Gouna’s famous distilleries and watch the entire process — from freshly picked petals to precious rose water and essential oils. The air inside is overwhelmingly fragrant. Look for clear rose water rather than pink-tinted to ensure authenticity. \n\n\n\n\n🏔 Spectacular Valley Scenery\nThe Kelaat M’Gouna Rose Festival sits at the gateway to some of Morocco’s most breathtaking landscapes. The Dades Gorges\, Todra Gorges\, and the legendary Road of a Thousand Kasbahs are all within easy reach — making this the perfect centrepiece of a southern Morocco road trip. \n\n\n\n\n\n\n\n\n\nHow to Get to Kelaat M’Gouna for the Rose Festival 2026\n\n\n\n\nKelaat M’Gouna is located approximately 330 km east of Marrakech. The most scenic route is the drive via the Tizi n’Tichka mountain pass — a stunning 5–6 hour journey through the High Atlas Mountains. You can also fly into Ouarzazate airport (OZZ) and drive the remaining 90 km east through the Valley of Roses. \n\n\n\n\nWe strongly recommend joining an organised tour rather than travelling independently — accommodation in Kelaat M’Gouna sells out months in advance during the Kelaat M’Gouna Rose Festival\, and a local guide adds enormous depth to the experience. \n\n\n\n\n\n\n\n\n\n💡 Insider Tips for the Kelaat M’Gouna Rose Festival 2026\n\n\n\n\n\nArrive early — before 10 AM for the freshest rose scent and thinner crowds\nBook accommodation months ahead — the town fills up completely during the festival\nDress in layers — spring mornings at 1\,450 m altitude can be surprisingly cold\nBring cash — most artisan stalls do not accept cards\nStay overnight — the valley is magical after the day crowds leave\nBuy carefully — authentic rose essential oil is expensive; very cheap “oil” is likely synthetic\n\n\n\n\n\n\n\n\n\n\n🗺 Book Your Kelaat M’Gouna Rose Festival Tour 2026\n\n\n\n\nReady to experience the Kelaat M’Gouna Rose Festival 2026 without the stress of planning it alone? Our dedicated guided tour takes you from Marrakech to the heart of the Valley of Roses — with comfortable transport\, handpicked accommodation\, and a knowledgeable local guide who brings the festival to life. \n\n\n\n\n👉 View Full Tour Details & Book Your Spot →
URL:https://yourguidetomorocco.com/event/kelaat-mgouna-rose-festival-2026/
LOCATION:Kelaat M’Gouna\, Kelaat M'Gouna (El Kelaa des M'Gouna)\, Dades Valley\, Tinghir Province\, Morocco\, Kelaat M'Gouna\, Morocco
CATEGORIES:Cultural Festivals,Southern Morocco,Spring Events
ATTACH;FMTTYPE=image/jpeg:https://yourguidetomorocco.com/wp-content/uploads/2022/12/kelaat-mgouna-scaled.jpg
END:VEVENT
END:VCALENDAR