BEGIN:VCALENDAR
VERSION:2.0
PRODID:-//Explore Morocco | Your Guide to Morocco - ECPv6.15.20//NONSGML v1.0//EN
CALSCALE:GREGORIAN
METHOD:PUBLISH
X-WR-CALNAME:Explore Morocco | Your Guide to Morocco
X-ORIGINAL-URL:https://yourguidetomorocco.com
X-WR-CALDESC:Events for Explore Morocco | Your Guide to Morocco
REFRESH-INTERVAL;VALUE=DURATION:PT1H
X-Robots-Tag:noindex
X-PUBLISHED-TTL:PT1H
BEGIN:VTIMEZONE
TZID:Africa/Casablanca
BEGIN:DAYLIGHT
TZOFFSETFROM:+0100
TZOFFSETTO:+0000
TZNAME:+00
DTSTART:20250223T020000
END:DAYLIGHT
BEGIN:STANDARD
TZOFFSETFROM:+0000
TZOFFSETTO:+0100
TZNAME:+01
DTSTART:20250406T020000
END:STANDARD
BEGIN:DAYLIGHT
TZOFFSETFROM:+0100
TZOFFSETTO:+0000
TZNAME:+00
DTSTART:20260215T020000
END:DAYLIGHT
BEGIN:STANDARD
TZOFFSETFROM:+0000
TZOFFSETTO:+0100
TZNAME:+01
DTSTART:20260322T020000
END:STANDARD
BEGIN:DAYLIGHT
TZOFFSETFROM:+0100
TZOFFSETTO:+0000
TZNAME:+00
DTSTART:20270207T020000
END:DAYLIGHT
BEGIN:STANDARD
TZOFFSETFROM:+0000
TZOFFSETTO:+0100
TZNAME:+01
DTSTART:20270314T020000
END:STANDARD
END:VTIMEZONE
BEGIN:VEVENT
DTSTART;VALUE=DATE:20260918
DTEND;VALUE=DATE:20261021
DTSTAMP:20260423T062541
CREATED:20251002T224041Z
LAST-MODIFIED:20260412T222437Z
UID:1453-1789689600-1792540799@yourguidetomorocco.com
SUMMARY:Ultimate Imilchil Marriage Festival 2026 Guide | Morocco's Festival of Love
DESCRIPTION:What Is the Imilchil Marriage Festival 2026?\nHidden deep in Morocco’s High Atlas Mountains\, the Imilchil Marriage Festival 2026 is one of the most extraordinary and authentic cultural events on earth. Also known as the Moussem d’Imilchil or the “Festival of Love\,” this ancient Berber gathering transforms the remote mountain village of Imilchil into Morocco’s most romantic destination every September. \nEvery September\, the remote village of Imilchil becomes the stage for the Imilchil Wedding Moussem — a unique three-day celebration where love\, tradition\, and tribal bonds come together. Thousands of Berbers and travelers gather to witness mass weddings\, courtship rituals\, drumming\, dancing\, and feasting on mountain delicacies. Today’s Festival \nThe Imilchil Marriage Festival is unlike any event in Morocco — a living window into Amazigh culture that has barely changed in centuries. \n\nThe Legend Behind the Imilchil Marriage Festival\nThe legend of Isli and Tislit forms the spiritual foundation of the Imilchil Festival. Long ago\, two lovers named Isli and Tislit belonged to rival tribes. Their love bloomed in the harsh mountain terrain\, but their families’ ancient feuds made their union impossible. Heartbroken\, the lovers wept tears so profound that they formed two pristine lakes — Isli (“the bridegroom”) and Tislit (“the bride”) — near the village of Imilchil. Desert-merzouga-tours These sacred twin lakes remain to this day\, and the festival honours their memory by granting young people the freedom to choose their own partners in marriage. \n\nWhen & Where Does the Imilchil Marriage Festival 2026 Take Place?\nThe Imilchil Marriage Festival 2026 will be held between September 18th to 21st. This festival takes place in the village of Imilchil\, located high in the Atlas Mountains of Morocco. Morocco Excursions \n📅 Dates: September 18–20\, 2026 📍 Location: Imilchil\, High Atlas Mountains\, Morocco (altitude: 2\,200 m) ⏱ Duration: 3 days 🎟 Admission: Free public event \n\nWhat to Expect at the Imilchil Marriage Festival 2026\n💍 Mass Wedding Ceremonies\nThe beating heart of the Imilchil Marriage Festival is the collective wedding ceremony. Dozens of couples exchange vows before family and villagers. Women wear handira shawls\, silver jewelry\, henna tattoos\, and kohl-lined eyes\, while men dress in djellabas and turbans. Tents are decorated with woven rugs\, colourful textiles\, and silver ornaments\, creating a vibrant mountain bazaar. Today’s Festival \n🐪 A Sea of Tents\, Horses & Camels\nClose to 30\,000 people from the mountains assemble under tents for three days with their flocks\, their horses and camels Travel Exploration — creating a scene that feels unchanged from centuries past. The high plateau becomes a vast\, colourful camp stretching as far as the eye can see. \n🥁 Traditional Amazigh Music & Ahidus Dancing\nThe sound of ahidus drums echoes through the mountains\, the shimmer of handwoven shawls catches the light\, and the aroma of lamb tagine and mint tea fills the air. Today’s Festival Music and dance performances run throughout the festival day and night. \n🛍 Tribal Markets & Artisan Souks\nThe festival doubles as a major trade fair. Artisans and farmers arrive from across the Atlas Mountains selling handmade silver jewelry\, traditional textiles\, pottery\, and mountain produce. It’s one of the best places in Morocco to buy authentic Amazigh handicrafts directly from their makers. \n🏔 Breathtaking Mountain Scenery\nImilchil sits surrounded by dramatic High Atlas peaks and the mythical twin lakes of Isli and Tislit — making every photograph feel like a painting. This is Morocco’s most visually stunning festival setting. \n\nHow to Get to Imilchil for the Marriage Festival\nReaching the Imilchil Festival requires careful planning\, as the village sits at approximately 2\,200 metres altitude in a remote mountain location. Most visitors approach from either Marrakech or Fes\, both offering distinct advantages for different travel styles. Desert-merzouga-tours A 4×4 vehicle is strongly recommended as mountain roads can be rough. We highly recommend joining an organised tour — navigation in the Atlas Mountains without local expertise is genuinely challenging. \n\n💡 Insider Tips for the Imilchil Marriage Festival 2026\n\nBook transport and accommodation months ahead — Imilchil is remote and fills completely\nA 4×4 vehicle is essential — standard cars struggle on mountain roads\nBring warm clothing — nights at 2\,200 m are cold even in September\nAlways ask permission before photographing individuals\, especially during wedding ceremonies\nCombine the festival with a visit to the Todra Gorges and Dades Valley for a full southern Morocco experience\n\n\n🗺 Book Your Imilchil Marriage Festival Tour 2026\nThe Imilchil Marriage Festival is one of Morocco’s most remote and logistically challenging events to attend independently. Our dedicated guided tour handles everything — 4×4 transport\, mountain accommodation\, and a local Amazigh guide who speaks the language and understands the culture. \n👉 View Full Tour Details & Book Your Spot →
URL:https://yourguidetomorocco.com/event/imilchil-marriage-festival-2026/
CATEGORIES:Cultural Festivals
ATTACH;FMTTYPE=image/png:https://yourguidetomorocco.com/wp-content/uploads/2025/10/New-Blog-Picnic-Spots-Facebook-Post-.png
END:VEVENT
END:VCALENDAR